{"text_format":"1","workbook":"xlsx","n_sheets":4,"sheets":["Uitleg-toelichting","Agendalijst","Beoord Verslag","Overzicht resultaten"],"not_rendered":{"charts":3,"images":7,"macros":1,"external_links":0,"defined_names":10,"comments":1,"pivot_tables":0},"unopened":[],"bounds":{"document_bytes":16777216,"sheet_cells":100000,"rows_first":2000,"rows_last":500,"rows_between":2000,"halvings":0,"cell_chars":16384,"cell_head_chars":4096},"cells_cut":0,"cells_raw":0,"read":"whole","date_system":"1900"}

{"sheet":"Uitleg-toelichting","index":0,"n_rows":4,"n_cols":2,"rows_kept":4,"cut":false,"hidden":false,"merged":[]}
[]
[]
[]
[null," "]

{"sheet":"Agendalijst","index":1,"n_rows":36,"n_cols":5,"rows_kept":36,"cut":false,"hidden":false,"merged":[]}
["Leerlingenlijst"]
[]
[]
[null,"Naam","eindcijfer"]
[1,"Pablo",{"$f":"IF(B5<>\"\",'Overzicht resultaten'!C$14,\"\")","v":67.833333333333343}]
[{"$f":"A5+1","v":2},"Judith",{"$f":"IF(B6<>\"\",'Overzicht resultaten'!D$14,\"\")","v":77.833333333333329}]
[{"$f":"A6+1","v":3},null,{"$f":"IF(B7<>\"\",'Overzicht resultaten'!E$14,\"\")","v":""}]
[4,null,{"$f":"IF(B8<>\"\",'Overzicht resultaten'!F$14,\"\")","v":""}]
[5,null,{"$f":"IF(B9<>\"\",'Overzicht resultaten'!G$14,\"\")","v":""}]
[6,null,{"$f":"IF(B10<>\"\",'Overzicht resultaten'!H$14,\"\")","v":""}]
[7,null,{"$f":"IF(B11<>\"\",'Overzicht resultaten'!I$14,\"\")","v":""}]
[8,null,{"$f":"IF(B12<>\"\",'Overzicht resultaten'!J$14,\"\")","v":""}]
[9,null,{"$f":"IF(B13<>\"\",'Overzicht resultaten'!K$14,\"\")","v":""}]
[10,null,{"$f":"IF(B14<>\"\",'Overzicht resultaten'!L$14,\"\")","v":""}]
[11,null,{"$f":"IF(B15<>\"\",'Overzicht resultaten'!M$14,\"\")","v":""}]
[12,null,{"$f":"IF(B16<>\"\",'Overzicht resultaten'!N$14,\"\")","v":""}]
[13,null,{"$f":"IF(B17<>\"\",'Overzicht resultaten'!O$14,\"\")","v":""}]
[14,null,{"$f":"IF(B18<>\"\",'Overzicht resultaten'!P$14,\"\")","v":""}]
[15,null,{"$f":"IF(B19<>\"\",'Overzicht resultaten'!Q$14,\"\")","v":""}]
[16,null,{"$f":"IF(B20<>\"\",'Overzicht resultaten'!R$14,\"\")","v":""}]
[17,null,{"$f":"IF(B21<>\"\",'Overzicht resultaten'!S$14,\"\")","v":""}]
[18,null,{"$f":"IF(B22<>\"\",'Overzicht resultaten'!T$14,\"\")","v":""}]
[19,null,{"$f":"IF(B23<>\"\",'Overzicht resultaten'!U$14,\"\")","v":""}]
[20,null,{"$f":"IF(B24<>\"\",'Overzicht resultaten'!V$14,\"\")","v":""}]
[21,null,{"$f":"IF(B25<>\"\",'Overzicht resultaten'!W$14,\"\")","v":""}]
[22,null,{"$f":"IF(B26<>\"\",'Overzicht resultaten'!X$14,\"\")","v":""}]
[23,null,{"$f":"IF(B27<>\"\",'Overzicht resultaten'!Y$14,\"\")","v":""}]
[24,null,{"$f":"IF(B28<>\"\",'Overzicht resultaten'!Z$14,\"\")","v":""}]
[25,null,{"$f":"IF(B29<>\"\",'Overzicht resultaten'!AA$14,\"\")","v":""}]
[{"$f":"A29+1","v":26},null,{"$f":"IF(B30<>\"\",'Overzicht resultaten'!AB$14,\"\")","v":""},null,{"$f":"IF(B30<>\"\",C30,\"\")","v":""}]
[27,null,{"$f":"IF(B31<>\"\",'Overzicht resultaten'!AC$14,\"\")","v":""},null,""]
[28,null,{"$f":"IF(B32<>\"\",'Overzicht resultaten'!AD$14,\"\")","v":""}]
[29,null,{"$f":"IF(B33<>\"\",'Overzicht resultaten'!AE$14,\"\")","v":""}]
[{"$f":"A33+1","v":30},null,{"$f":"IF(B34<>\"\",'Overzicht resultaten'!AF$14,\"\")","v":""}]
[31,null,{"$f":"IF(B35<>\"\",'Overzicht resultaten'!AG$14,\"\")","v":""}]
[32,null,{"$f":"IF(B36<>\"\",'Overzicht resultaten'!AH$14,\"\")","v":""}]

{"sheet":"Beoord Verslag","index":2,"n_rows":51,"n_cols":40,"rows_kept":51,"cut":false,"hidden":false,"merged":[]}
[null,"Alle criteria",null,"gewicht per onderdeel","categorie gewicht",{"$f":"'Overzicht resultaten'!C6","v":"Pablo"},{"$f":"'Overzicht resultaten'!D6","v":"Judith"},null,{"$f":"'Overzicht resultaten'!F6","v":""},{"$f":"'Overzicht resultaten'!G6","v":""},{"$f":"'Overzicht resultaten'!H6","v":""},{"$f":"'Overzicht resultaten'!I6","v":""},{"$f":"'Overzicht resultaten'!J6","v":""},{"$f":"'Overzicht resultaten'!K6","v":""},{"$f":"'Overzicht resultaten'!L6","v":""},{"$f":"'Overzicht resultaten'!M6","v":""},{"$f":"'Overzicht resultaten'!N6","v":""},{"$f":"'Overzicht resultaten'!O6","v":""},{"$f":"'Overzicht resultaten'!P6","v":""},{"$f":"'Overzicht resultaten'!Q6","v":""},{"$f":"'Overzicht resultaten'!R6","v":""},{"$f":"'Overzicht resultaten'!S6","v":""},{"$f":"'Overzicht resultaten'!T6","v":""},{"$f":"'Overzicht resultaten'!U6","v":""},{"$f":"'Overzicht resultaten'!V6","v":""},{"$f":"'Overzicht resultaten'!W6","v":""},{"$f":"'Overzicht resultaten'!X6","v":""},{"$f":"'Overzicht resultaten'!Y6","v":""},{"$f":"'Overzicht resultaten'!Z6","v":""},{"$f":"'Overzicht resultaten'!AA6","v":""},{"$f":"'Overzicht resultaten'!AB6","v":""},{"$f":"'Overzicht resultaten'!AC6","v":""},{"$f":"'Overzicht resultaten'!AD6","v":""},{"$f":"'Overzicht resultaten'!AE6","v":""},{"$f":"'Overzicht resultaten'!AF6","v":""},{"$f":"'Overzicht resultaten'!AG6","v":""},{"$f":"'Overzicht resultaten'!AH6","v":""},null,null,5]
[null,null,null,"gewicht  (0-4)","gewicht  (0-4)",1,{"$f":"F2+1","v":2},3,4,5,6,7,8,9,10,11,12,13,14,15,16,17,18,19,20,21,22,23,24,25,26,27,28,29,30,31,32,null,null,"x"]
[null,null,"A. De inleiding en vraagstelling",null,null,null,null,null,null,null,null,null,null,null,null,null,null,null,null,null,null,null,null,null,null,null,null,null,null,null,null,null,null,null,null,null,null,null,null,"x"]
[null,null,"De leerling heeft:",null,null,null,null,null,null,null,null,null,null,null,null,null,null,null,null,null,null,null,null,null,null,null,null,null,null,null,null,null,null,null,null,null,null,null,null,"x"]
[1,0,"een haalbare CKV-onderzoeksvraag (m.b.t. een praktische activiteit en beschouwend onderzoek) geformuleerd die aan alle eisen voldoet.",2,null,3,4,null,null,null,null,null,null,null,null,null,null,null,null,null,null,null,null,null,null,null,null,null,null,null,null,null,null,null,null,null,null,null,null,{"$f":"IF(AND(D5>0,$E$4>0),\"x\",0)","v":0}]
[2,0,"een beredeneerde keuze gemaakt voor een vergelijkende of verklarende hoofdvraag.",1,null,5,2,null,null,null,null,null,null,null,null,null,null,null,null,null,null,null,null,null,null,null,null,null,null,null,null,null,null,null,null,null,null,null,null,{"$f":"IF(AND(D6>0,$E$4>0),\"x\",0)","v":0}]
[3,0,"relevante deelvragen geformuleerd die een antwoord op de hoofdvraag mogelijk maken.",1,null,3,3,null,null,null,null,null,null,null,null,null,null,null,null,null,null,null,null,null,null,null,null,null,null,null,null,null,null,null,null,null,null,null,null,0]
[4,0,"interessante en originele hoofd- en deelvragen geformuleerd.",1,null,3,3,null,null,null,null,null,null,null,null,null,null,null,null,null,null,null,null,null,null,null,null,null,null,null,null,null,null,null,null,null,null,null,null,0]
[5,0,"... (criteria in te vullen door de school)",0,null,null,null,null,null,null,null,null,null,null,null,null,null,null,null,null,null,null,null,null,null,null,null,null,null,null,null,null,null,null,null,null,null,null,null,0]
[null,null,null,null,1,{"$f":"IF(AND(SUM($D$5:$D$9)>0,$E$10>0),VALUE(SUMPRODUCT($D$5:$D$9*F5:F9)*100/(5*SUM($D$5:$D$9))))","v":68},{"$f":"IF(AND(SUM($D$5:$D$9)>0,$E$10>0),VALUE(SUMPRODUCT($D$5:$D$9*G5:G9)*100/(5*SUM($D$5:$D$9))))","v":64},0,0,0,0,0,0,0,0,0,0,0,0,0,0,0,0,0,0,0,0,0,0,0,0,0,0,0,0,0,0,null,null,0]
[null,null,"B. Zoekstrategie",null,null,null,null,null,null,null,null,null,null,null,null,null,null,null,null,null,null,null,null,null,null,null,null,null,null,null,null,null,null,null,null,null,null,null,null,0]
[null,null,"De leerling heeft:",null,null,null,null,null,null,null,null,null,null,null,null,null,null,null,null,null,null,null,null,null,null,null,null,null,null,null,null,null,null,null,null,null,null,null,null,0]
[6,0,"gekozen voor voldoende variatie in bronnen, zoals: culturele ervaringen,  experimenten, personen, enquêtes, documentaires, bibliotheken, internet, recensies.",2,null,3,4,null,null,null,null,null,null,null,null,null,null,null,null,null,null,null,null,null,null,null,null,null,null,null,null,null,null,null,null,null,null,null,null,0]
[7,0,"gebruik gemaakt van zijn culturele omgeving.",2,null,3,4,null,null,null,null,null,null,null,null,null,null,null,null,null,null,null,null,null,null,null,null,null,null,null,null,null,null,null,null,null,null,null,null,0]
[8,0,"zeer relevante en consistente bronnen gekozen.",1,null,3,3,null,null,null,null,null,null,null,null,null,null,null,null,null,null,null,null,null,null,null,null,null,null,null,null,null,null,null,null,null,null,null,null,0]
[9,0,"oog voor de beschikbaarheid van bronnen.",1,null,4,4,null,null,null,null,null,null,null,null,null,null,null,null,null,null,null,null,null,null,null,null,null,null,null,null,null,null,null,null,null,null,null,null,0]
[10,0,"... (criteria in te vullen door de school)",0,null,null,null,null,null,null,null,null,null,null,null,null,null,null,null,null,null,null,null,null,null,null,null,null,null,null,null,null,null,null,null,null,null,null,null,{"$f":"IF(E4>0,\"x\",0)","v":0}]
[" ",null,null,null,1,{"$f":"IF(AND(SUM($D$13:$D$17)>0,$E$18>0),VALUE(SUMPRODUCT($D$13:$D$17*F13:F17)*100/(5*SUM($D$13:$D$17))),0)","v":63.333333333333336},{"$f":"IF(AND(SUM($D$13:$D$17)>0,$E$18>0),VALUE(SUMPRODUCT($D$13:$D$17*G13:G17)*100/(3*SUM($D$13:$D$17))),0)","v":127.77777777777777},0,0,0,0,0,0,0,0,0,0,0,0,0,0,0,0,0,0,0,0,0,0,0,0,0,0,0,0,0,0,null,null,"x"]
[null,null,"C. Verwerven van informatie",null,null,null,null,null,null,null,null,null,null,null,null,null,null,null,null,null,null,null,null,null,null,null,null,null,null,null,null,null,null,null,null,null,null,null,null,{"$f":"IF(AND(D19>0,$E$18>0),\"x\",0)","v":0}]
[null,null,"De leerling heeft:",null,null,null,null,null,null,null,null,null,null,null,null,null,null,null,null,null,null,null,null,null,null,null,null,null,null,null,null,null,null,null,null,null,null,null,null,{"$f":"IF(AND(D20>0,$E$18>0),\"x\",0)","v":0}]
[11,0,"relevante informatie verzameld.",2,null,4,5,null,null,null,null,null,null,null,null,null,null,null,null,null,null,null,null,null,null,null,null,null,null,null,null,null,null,null,null,null,null,null,null,"x"]
[12,0,"associatief gewerkt bij het verwerven van informatie ",1,null,1,2,null,null,null,null,null,null,null,null,null,null,null,null,null,null,null,null,null,null,null,null,null,null,null,null,null,null,null,null,null,null,null,null,"x"]
[13,0,"planmatig gewerkt bij het verwerven van informatie ",1,null,1,2,null,null,null,null,null,null,null,null,null,null,null,null,null,null,null,null,null,null,null,null,null,null,null,null,null,null,null,null,null,null,null,null,"x"]
[14,0,"de geselecteerd informatie grondig verwerkt en kritisch beoordeeld ",2,null,3,2,null,null,null,null,null,null,null,null,null,null,null,null,null,null,null,null,null,null,null,null,null,null,null,null,null,null,null,null,null,null,null,null,"x"]
[15,0,"... (criteria in te vullen door de school)",0,null,null,null,null,null,null,null,null,null,null,null,null,null,null,null,null,null,null,null,null,null,null,null,null,null,null,null,null,null,null,null,null,null,null,null,0]
[null,null,null,null,1,{"$f":"IF(AND(SUM($D$21:$D$25)>0,$E$26>0),VALUE(SUMPRODUCT($D$21:$D$25*F21:F25)*100/(5*SUM($D$21:$D$25))),0)","v":53.333333333333336},{"$f":"IF(AND(SUM($D$21:$D$25)>0,$E$26>0),VALUE(SUMPRODUCT($D$21:$D$25*G21:G25)*100/(5*SUM($D$21:$D$25))),0)","v":60},0,0,0,0,0,0,0,0,0,0,0,0,0,0,0,0,0,0,0,0,0,0,0,0,0,0,0,0,0,0,null,null,0]
[null,null,"D. Verwerken van de informatie",null,null,null,null,null,null,null,null,null,null,null,null,null,null,null,null,null,null,null,null,null,null,null,null,null,null,null,null,null,null,null,null,null,null,null,null,0]
[null,null,"De leerling heeft:",null,null,null,null,null,null,null,null,null,null,null,null,null,null,null,null,null,null,null,null,null,null,null,null,null,null,null,null,null,null,null,null,null,null,null,null,0]
[16,0,"de verzamelde informatie systematisch en overzichtelijk verwerkt.",1,null,4,5,null,null,null,null,null,null,null,null,null,null,null,null,null,null,null,null,null,null,null,null,null,null,null,null,null,null,null,null,null,null,null,null,{"$f":"IF(E18>0,\"x\",0)","v":"x"}]
[17,0,"de geselecteerde informatie op een bij het onderzoek passende wijze verwerkt (zoals een presentatie, tentoonstelling, verslag, debat, infographic, film of performance).",2,null,4,4,null,null,null,null,null,null,null,null,null,null,null,null,null,null,null,null,null,null,null,null,null,null,null,null,null,null,null,null,null,null,null,null,"x"]
[18,0,"plagiaat vermeden.",1,null,4,4,null,null,null,null,null,null,null,null,null,null,null,null,null,null,null,null,null,null,null,null,null,null,null,null,null,null,null,null,null,null,null,null,{"$f":"IF(AND(D31>0,$E$30>0),\"x\",0)","v":0}]
[19,0,"bronnen adequaat vermeld.",1,null,2,2,null,null,null,null,null,null,null,null,null,null,null,null,null,null,null,null,null,null,null,null,null,null,null,null,null,null,null,null,null,null,null,null,{"$f":"IF(AND(D32>0,$E$30>0),\"x\",0)","v":0}]
[20,0,"... (criteria in te vullen door de school).",0,null,null,null,null,null,null,null,null,null,null,null,null,null,null,null,null,null,null,null,null,null,null,null,null,null,null,null,null,null,null,null,null,null,null,null,0]
[null,null,null,null,1,{"$f":"IF(AND(SUM($D$29:$D$33)>0,$E$34>0),VALUE(SUMPRODUCT($D$29:$D$33*F29:F33)*100/(5*SUM($D$29:$D$33))),0)","v":72},{"$f":"IF(AND(SUM($D$29:$D$33)>0,$E$34>0),VALUE(SUMPRODUCT($D$29:$D$33*G29:G33)*100/(5*SUM($D$29:$D$33))),0)","v":76},0,0,0,0,0,0,0,0,0,0,0,0,0,0,0,0,0,0,0,0,0,0,0,0,0,0,0,0,0,0,null,null,0]
[null,null,"E. Presentatie",null,null,null,null,null,null,null,null,null,null,null,null,null,null,null,null,null,null,null,null,null,null,null,null,null,null,null,null,null,null,null,null,null,null,null,null,0]
[null,null,"De leerling heeft:",null,null,null,null,null,null,null,null,null,null,null,null,null,null,null,null,null,null,null,null,null,null,null,null,null,null,null,null,null,null,null,null,null,null,null,null,0]
[21,0,"een afdoende antwoord gegeven op hoofd- en deelvragen.",2,null,5,4,null,null,null,null,null,null,null,null,null,null,null,null,null,null,null,null,null,null,null,null,null,null,null,null,null,null,null,null,null,null,null,null,0]
[22,0,"zijn conclusies met argumenten onderbouwd.",2,null,3,3,null,null,null,null,null,null,null,null,null,null,null,null,null,null,null,null,null,null,null,null,null,null,null,null,null,null,null,null,null,null,null,null,0]
[23,0,"gezorgd voor een presentatie die past bij het onderzoek.",2,null,3,2,null,null,null,null,null,null,null,null,null,null,null,null,null,null,null,null,null,null,null,null,null,null,null,null,null,null,null,null,null,null,null,null,0]
[24,0,"bij het presenteren rekening gehouden met zijn doelgroep.",1,null,3,3,null,null,null,null,null,null,null,null,null,null,null,null,null,null,null,null,null,null,null,null,null,null,null,null,null,null,null,null,null,null,null,null,0]
[25,0,"een aantrekkelijke, originele en overtuigende manier van presenteren.",2,null,3,4,null,null,null,null,null,null,null,null,null,null,null,null,null,null,null,null,null,null,null,null,null,null,null,null,null,null,null,null,null,null,null,null,0]
[26,0,"... (criteria in te vullen door de school).",0,null,null,null,null,null,null,null,null,null,null,null,null,null,null,null,null,null,null,null,null,null,null,null,null,null,null,null,null,null,null,null,null,null,null,null,{"$f":"IF(E30>0,\"x\",0)","v":0}]
[null,null,null,null,1,{"$f":"IF(AND(SUM($D$37:$D$42)>0,$E$43>0),VALUE(SUMPRODUCT($D$37:$D$42*F37:F42)*100/(5*SUM($D$37:$D$43))),0)","v":68.888888888888886},{"$f":"IF(AND(SUM($D$37:$D$42)>0,$E$43>0),VALUE(SUMPRODUCT($D$37:$D$42*G37:G42)*100/(5*SUM($D$37:$D$43))),0)","v":64.444444444444443},0,0,0,0,0,0,0,0,0,0,0,0,0,0,0,0,0,0,0,0,0,0,0,0,0,0,0,0,0,0,null,null,"x"]
[null,null,"F. Evaluatie",null,null,null,null,null,null,null,null,null,null,null,null,null,null,null,null,null,null,null,null,null,null,null,null,null,null,null,null,null,null,null,null,null,null,null,null,{"$f":"IF(AND(D44>0,$E$43>0),\"x\",0)","v":0}]
[null,null,"De leerling heeft:",null,null,null,null,null,null,null,null,null,null,null,null,null,null,null,null,null,null,null,null,null,null,null,null,null,null,null,null,null,null,null,null,null,null,null,null,{"$f":"IF(AND(D45>0,$E$43>0),\"x\",0)","v":0}]
[27,0,"het resultaat van het onderzoek geëvalueerd (product).",2,null,2,3,null,null,null,null,null,null,null,null,null,null,null,null,null,null,null,null,null,null,null,null,null,null,null,null,null,null,null,null,null,null,null,null,"x"]
[28,0,"het onderzoeksproces geëvalueerd (proces). ",2,null,5,4,null,null,null,null,null,null,null,null,null,null,null,null,null,null,null,null,null,null,null,null,null,null,null,null,null,null,null,null,null,null,null,null,"x"]
[29,0,"verbanden gelegd tussen opgedane ervaringen en inzichten met betrekking tot  processen binnen de context van kunst (CKV-leerproces).",1,null,2,2,null,null,null,null,null,null,null,null,null,null,null,null,null,null,null,null,null,null,null,null,null,null,null,null,null,null,null,null,null,null,null,null,"x"]
[30,0,"suggesties gedaan voor vervolgonderzoek.",1,null,2,2,null,null,null,null,null,null,null,null,null,null,null,null,null,null,null,null,null,null,null,null,null,null,null,null,null,null,null,null,null,null,null,null,{"$f":"IF(E43>0,\"x\",0)","v":"x"}]
[31,0,"... (criteria in te vullen door de school).",0,null,null,null,null,null,null,null,null,null,null,null,null,null,null,null,null,null,null,null,null,null,null,null,null,null,null,null,null,null,null,null,null,null,null,null,"x"]
[null,null,null,null,1,{"$f":"IF(AND(SUM($D$46:$D$50)>0,$E$51>0),VALUE(SUMPRODUCT($D$46:$D$50*F46:F50)*100/(5*SUM($D$46:$D$50))),0)","v":60},{"$f":"IF(AND(SUM($D$46:$D$50)>0,$E$51>0),VALUE(SUMPRODUCT($D$46:$D$50*G46:G50)*100/(5*SUM($D$46:$D$50))),0)","v":60},0,0,0,0,0,0,0,0,0,0,0,0,0,0,0,0,0,0,0,0,0,0,0,0,0,0,0,0,0,0,null,null,{"$f":"IF(AND(D51>0,$E$50>0),\"x\",0)","v":0}]

{"sheet":"Overzicht resultaten","index":3,"n_rows":27,"n_cols":36,"rows_kept":27,"cut":false,"hidden":false,"merged":[[2,0,4,1],[26,4,28,5],[26,2,28,3]]}
[]
[]
["Overzicht resultaten: hier niets invullen!"]
[]
[null,null,1,{"$f":"C5+1","v":2},{"$f":"D5+1","v":3},4,5,6,7,8,9,10,11,12,13,14,15,16,17,18,19,20,21,22,23,24,25,26,27,28,29,30,{"$f":"AF5+1","v":31},32]
["weging","categorie",{"$f":"IF(Agendalijst!B5=\"\",\"\",Agendalijst!B5)","v":"Pablo"},{"$f":"IF(Agendalijst!B6=\"\",\"\",Agendalijst!B6)","v":"Judith"},{"$f":"IF(Agendalijst!B7=\"\",\"\",Agendalijst!B7)","v":""},{"$f":"IF(Agendalijst!B8=\"\",\"\",Agendalijst!B8)","v":""},{"$f":"IF(Agendalijst!B9=\"\",\"\",Agendalijst!B9)","v":""},{"$f":"IF(Agendalijst!B10=\"\",\"\",Agendalijst!B10)","v":""},{"$f":"IF(Agendalijst!B11=\"\",\"\",Agendalijst!B11)","v":""},{"$f":"IF(Agendalijst!B12=\"\",\"\",Agendalijst!B12)","v":""},{"$f":"IF(Agendalijst!B13=\"\",\"\",Agendalijst!B13)","v":""},{"$f":"IF(Agendalijst!B14=\"\",\"\",Agendalijst!B14)","v":""},{"$f":"IF(Agendalijst!B15=\"\",\"\",Agendalijst!B15)","v":""},{"$f":"IF(Agendalijst!B16=\"\",\"\",Agendalijst!B16)","v":""},{"$f":"IF(Agendalijst!B17=\"\",\"\",Agendalijst!B17)","v":""},{"$f":"IF(Agendalijst!B18=\"\",\"\",Agendalijst!B18)","v":""},{"$f":"IF(Agendalijst!B19=\"\",\"\",Agendalijst!B19)","v":""},{"$f":"IF(Agendalijst!B20=\"\",\"\",Agendalijst!B20)","v":""},{"$f":"IF(Agendalijst!B21=\"\",\"\",Agendalijst!B21)","v":""},{"$f":"IF(Agendalijst!B22=\"\",\"\",Agendalijst!B22)","v":""},{"$f":"IF(Agendalijst!B23=\"\",\"\",Agendalijst!B23)","v":""},{"$f":"IF(Agendalijst!B24=\"\",\"\",Agendalijst!B24)","v":""},{"$f":"IF(Agendalijst!B25=\"\",\"\",Agendalijst!B25)","v":""},{"$f":"IF(Agendalijst!B26=\"\",\"\",Agendalijst!B26)","v":""},{"$f":"IF(Agendalijst!B27=\"\",\"\",Agendalijst!B27)","v":""},{"$f":"IF(Agendalijst!B28=\"\",\"\",Agendalijst!B28)","v":""},{"$f":"IF(Agendalijst!B29=\"\",\"\",Agendalijst!B29)","v":""},{"$f":"IF(Agendalijst!B30=\"\",\"\",Agendalijst!B30)","v":""},{"$f":"IF(Agendalijst!B31=\"\",\"\",Agendalijst!B31)","v":""},{"$f":"IF(Agendalijst!B32=\"\",\"\",Agendalijst!B32)","v":""},{"$f":"IF(Agendalijst!B33=\"\",\"\",Agendalijst!B33)","v":""},{"$f":"IF(Agendalijst!B34=\"\",\"\",Agendalijst!B34)","v":""},{"$f":"IF(Agendalijst!B35=\"\",\"\",Agendalijst!B35)","v":""},{"$f":"IF(Agendalijst!B36=\"\",\"\",Agendalijst!B36)","v":""},null,"gemiddelde klas"]
[{"$f":"'Beoord Verslag'!E10","v":1},{"$f":"'Beoord Verslag'!C3","v":"A. De inleiding en vraagstelling"},{"$f":"IF(AND($A7>0,C6<>\"\"),'Beoord Verslag'!F10,\"\")","v":68},{"$f":"IF(AND($A7>0,D6<>\"\"),'Beoord Verslag'!G10,\"\")","v":64},{"$f":"IF(AND($A7>0,E6<>\"\"),'Beoord Verslag'!H10,\"\")","v":""},{"$f":"IF(AND($A7>0,F6<>\"\"),'Beoord Verslag'!I10,\"\")","v":""},{"$f":"IF(AND($A7>0,G6<>\"\"),'Beoord Verslag'!J10,\"\")","v":""},{"$f":"IF(AND($A7>0,H6<>\"\"),'Beoord Verslag'!K10,\"\")","v":""},{"$f":"IF(AND($A7>0,I6<>\"\"),'Beoord Verslag'!L10,\"\")","v":""},{"$f":"IF(AND($A7>0,J6<>\"\"),'Beoord Verslag'!M10,\"\")","v":""},{"$f":"IF(AND($A7>0,K6<>\"\"),'Beoord Verslag'!N10,\"\")","v":""},{"$f":"IF(AND($A7>0,L6<>\"\"),'Beoord Verslag'!O10,\"\")","v":""},{"$f":"IF(AND($A7>0,M6<>\"\"),'Beoord Verslag'!P10,\"\")","v":""},{"$f":"IF(AND($A7>0,N6<>\"\"),'Beoord Verslag'!Q10,\"\")","v":""},{"$f":"IF(AND($A7>0,O6<>\"\"),'Beoord Verslag'!R10,\"\")","v":""},{"$f":"IF(AND($A7>0,P6<>\"\"),'Beoord Verslag'!S10,\"\")","v":""},{"$f":"IF(AND($A7>0,Q6<>\"\"),'Beoord Verslag'!T10,\"\")","v":""},{"$f":"IF(AND($A7>0,R6<>\"\"),'Beoord Verslag'!U10,\"\")","v":""},{"$f":"IF(AND($A7>0,S6<>\"\"),'Beoord Verslag'!V10,\"\")","v":""},{"$f":"IF(AND($A7>0,T6<>\"\"),'Beoord Verslag'!W10,\"\")","v":""},{"$f":"IF(AND($A7>0,U6<>\"\"),'Beoord Verslag'!X10,\"\")","v":""},{"$f":"IF(AND($A7>0,V6<>\"\"),'Beoord Verslag'!Y10,\"\")","v":""},{"$f":"IF(AND($A7>0,W6<>\"\"),'Beoord Verslag'!Z10,\"\")","v":""},{"$f":"IF(AND($A7>0,X6<>\"\"),'Beoord Verslag'!AA10,\"\")","v":""},{"$f":"IF(AND($A7>0,Y6<>\"\"),'Beoord Verslag'!AB10,\"\")","v":""},{"$f":"IF(AND($A7>0,Z6<>\"\"),'Beoord Verslag'!AC10,\"\")","v":""},{"$f":"IF(AND($A7>0,AA6<>\"\"),'Beoord Verslag'!AD10,\"\")","v":""},{"$f":"IF(AND($A7>0,AB6<>\"\"),'Beoord Verslag'!AE10,\"\")","v":""},{"$f":"IF(AND($A7>0,AC6<>\"\"),'Beoord Verslag'!AF10,\"\")","v":""},{"$f":"IF(AND($A7>0,AD6<>\"\"),'Beoord Verslag'!AG10,\"\")","v":""},{"$f":"IF(AND($A7>0,AE6<>\"\"),'Beoord Verslag'!AH10,\"\")","v":""},{"$f":"IF(AND($A7>0,AF6<>\"\"),'Beoord Verslag'!AI10,\"\")","v":""},{"$f":"IF(AND($A7>0,AG6<>\"\"),'Beoord Verslag'!AJ10,\"\")","v":""},{"$f":"IF(AND($A7>0,AH6<>\"\"),'Beoord Verslag'!AK10,\"\")","v":""},null,{"$f":"IF(A7>0,AVERAGE(C7:AH7),\"-\")","v":66}]
[{"$f":"'Beoord Verslag'!E18","v":1},{"$f":"'Beoord Verslag'!C11","v":"B. Zoekstrategie"},{"$f":"IF(AND($A8>0,C6<>\"\"),'Beoord Verslag'!F18,\"\")","v":63.333333333333336},{"$f":"IF(AND($A8>0,D6<>\"\"),'Beoord Verslag'!G18,\"\")","v":127.77777777777777},{"$f":"IF(AND($A8>0,E6<>\"\"),'Beoord Verslag'!H18,\"\")","v":""},{"$f":"IF(AND($A8>0,F6<>\"\"),'Beoord Verslag'!I18,\"\")","v":""},{"$f":"IF(AND($A8>0,G6<>\"\"),'Beoord Verslag'!J18,\"\")","v":""},{"$f":"IF(AND($A8>0,H6<>\"\"),'Beoord Verslag'!K18,\"\")","v":""},{"$f":"IF(AND($A8>0,I6<>\"\"),'Beoord Verslag'!L18,\"\")","v":""},{"$f":"IF(AND($A8>0,J6<>\"\"),'Beoord Verslag'!M18,\"\")","v":""},{"$f":"IF(AND($A8>0,K6<>\"\"),'Beoord Verslag'!N18,\"\")","v":""},{"$f":"IF(AND($A8>0,L6<>\"\"),'Beoord Verslag'!O18,\"\")","v":""},{"$f":"IF(AND($A8>0,M6<>\"\"),'Beoord Verslag'!P18,\"\")","v":""},{"$f":"IF(AND($A8>0,N6<>\"\"),'Beoord Verslag'!Q18,\"\")","v":""},{"$f":"IF(AND($A8>0,O6<>\"\"),'Beoord Verslag'!R18,\"\")","v":""},{"$f":"IF(AND($A8>0,P6<>\"\"),'Beoord Verslag'!S18,\"\")","v":""},{"$f":"IF(AND($A8>0,Q6<>\"\"),'Beoord Verslag'!T18,\"\")","v":""},{"$f":"IF(AND($A8>0,R6<>\"\"),'Beoord Verslag'!U18,\"\")","v":""},{"$f":"IF(AND($A8>0,S6<>\"\"),'Beoord Verslag'!V18,\"\")","v":""},{"$f":"IF(AND($A8>0,T6<>\"\"),'Beoord Verslag'!W18,\"\")","v":""},{"$f":"IF(AND($A8>0,U6<>\"\"),'Beoord Verslag'!X18,\"\")","v":""},{"$f":"IF(AND($A8>0,V6<>\"\"),'Beoord Verslag'!Y18,\"\")","v":""},{"$f":"IF(AND($A8>0,W6<>\"\"),'Beoord Verslag'!Z18,\"\")","v":""},{"$f":"IF(AND($A8>0,X6<>\"\"),'Beoord Verslag'!AA18,\"\")","v":""},{"$f":"IF(AND($A8>0,Y6<>\"\"),'Beoord Verslag'!AB18,\"\")","v":""},{"$f":"IF(AND($A8>0,Z6<>\"\"),'Beoord Verslag'!AC18,\"\")","v":""},{"$f":"IF(AND($A8>0,AA6<>\"\"),'Beoord Verslag'!AD18,\"\")","v":""},{"$f":"IF(AND($A8>0,AB6<>\"\"),'Beoord Verslag'!AE18,\"\")","v":""},{"$f":"IF(AND($A8>0,AC6<>\"\"),'Beoord Verslag'!AF18,\"\")","v":""},{"$f":"IF(AND($A8>0,AD6<>\"\"),'Beoord Verslag'!AG18,\"\")","v":""},{"$f":"IF(AND($A8>0,AE6<>\"\"),'Beoord Verslag'!AH18,\"\")","v":""},{"$f":"IF(AND($A8>0,AF6<>\"\"),'Beoord Verslag'!AI18,\"\")","v":""},{"$f":"IF(AND($A8>0,AG6<>\"\"),'Beoord Verslag'!AJ18,\"\")","v":""},{"$f":"IF(AND($A8>0,AH6<>\"\"),'Beoord Verslag'!AK18,\"\")","v":""},null,{"$f":"IF(A8>0,AVERAGE(C8:AH8),\"-\")","v":95.555555555555557}]
[{"$f":"'Beoord Verslag'!E26","v":1},{"$f":"'Beoord Verslag'!C19","v":"C. Verwerven van informatie"},{"$f":"IF(AND($A9>0,C6<>\"\"),'Beoord Verslag'!F26,\"\")","v":53.333333333333336},{"$f":"IF(AND($A9>0,D6<>\"\"),'Beoord Verslag'!G26,\"\")","v":60},{"$f":"IF(AND($A9>0,E6<>\"\"),'Beoord Verslag'!H26,\"\")","v":""},{"$f":"IF(AND($A9>0,F6<>\"\"),'Beoord Verslag'!I26,\"\")","v":""},{"$f":"IF(AND($A9>0,G6<>\"\"),'Beoord Verslag'!J26,\"\")","v":""},{"$f":"IF(AND($A9>0,H6<>\"\"),'Beoord Verslag'!K26,\"\")","v":""},{"$f":"IF(AND($A9>0,I6<>\"\"),'Beoord Verslag'!L26,\"\")","v":""},{"$f":"IF(AND($A9>0,J6<>\"\"),'Beoord Verslag'!M26,\"\")","v":""},{"$f":"IF(AND($A9>0,K6<>\"\"),'Beoord Verslag'!N26,\"\")","v":""},{"$f":"IF(AND($A9>0,L6<>\"\"),'Beoord Verslag'!O26,\"\")","v":""},{"$f":"IF(AND($A9>0,M6<>\"\"),'Beoord Verslag'!P26,\"\")","v":""},{"$f":"IF(AND($A9>0,N6<>\"\"),'Beoord Verslag'!Q26,\"\")","v":""},{"$f":"IF(AND($A9>0,O6<>\"\"),'Beoord Verslag'!R26,\"\")","v":""},{"$f":"IF(AND($A9>0,P6<>\"\"),'Beoord Verslag'!S26,\"\")","v":""},{"$f":"IF(AND($A9>0,Q6<>\"\"),'Beoord Verslag'!T26,\"\")","v":""},{"$f":"IF(AND($A9>0,R6<>\"\"),'Beoord Verslag'!U26,\"\")","v":""},{"$f":"IF(AND($A9>0,S6<>\"\"),'Beoord Verslag'!V26,\"\")","v":""},{"$f":"IF(AND($A9>0,T6<>\"\"),'Beoord Verslag'!W26,\"\")","v":""},{"$f":"IF(AND($A9>0,U6<>\"\"),'Beoord Verslag'!X26,\"\")","v":""},{"$f":"IF(AND($A9>0,V6<>\"\"),'Beoord Verslag'!Y26,\"\")","v":""},{"$f":"IF(AND($A9>0,W6<>\"\"),'Beoord Verslag'!Z26,\"\")","v":""},{"$f":"IF(AND($A9>0,X6<>\"\"),'Beoord Verslag'!AA26,\"\")","v":""},{"$f":"IF(AND($A9>0,Y6<>\"\"),'Beoord Verslag'!AB26,\"\")","v":""},{"$f":"IF(AND($A9>0,Z6<>\"\"),'Beoord Verslag'!AC26,\"\")","v":""},{"$f":"IF(AND($A9>0,AA6<>\"\"),'Beoord Verslag'!AD26,\"\")","v":""},{"$f":"IF(AND($A9>0,AB6<>\"\"),'Beoord Verslag'!AE26,\"\")","v":""},{"$f":"IF(AND($A9>0,AC6<>\"\"),'Beoord Verslag'!AF26,\"\")","v":""},{"$f":"IF(AND($A9>0,AD6<>\"\"),'Beoord Verslag'!AG26,\"\")","v":""},{"$f":"IF(AND($A9>0,AE6<>\"\"),'Beoord Verslag'!AH26,\"\")","v":""},{"$f":"IF(AND($A9>0,AF6<>\"\"),'Beoord Verslag'!AI26,\"\")","v":""},{"$f":"IF(AND($A9>0,AG6<>\"\"),'Beoord Verslag'!AJ26,\"\")","v":""},{"$f":"IF(AND($A9>0,AH6<>\"\"),'Beoord Verslag'!AK26,\"\")","v":""},null,56.666666666666671]
[{"$f":"'Beoord Verslag'!E34","v":1},{"$f":"'Beoord Verslag'!C27","v":"D. Verwerken van de informatie"},{"$f":"IF(AND($A10>0,C6<>\"\"),'Beoord Verslag'!F34,\"\")","v":72},{"$f":"IF(AND($A10>0,D6<>\"\"),'Beoord Verslag'!G34,\"\")","v":76},{"$f":"IF(AND($A10>0,E6<>\"\"),'Beoord Verslag'!H34,\"\")","v":""},{"$f":"IF(AND($A10>0,F6<>\"\"),'Beoord Verslag'!I34,\"\")","v":""},{"$f":"IF(AND($A10>0,G6<>\"\"),'Beoord Verslag'!J34,\"\")","v":""},{"$f":"IF(AND($A10>0,H6<>\"\"),'Beoord Verslag'!K34,\"\")","v":""},{"$f":"IF(AND($A10>0,I6<>\"\"),'Beoord Verslag'!L34,\"\")","v":""},{"$f":"IF(AND($A10>0,J6<>\"\"),'Beoord Verslag'!M34,\"\")","v":""},{"$f":"IF(AND($A10>0,K6<>\"\"),'Beoord Verslag'!N34,\"\")","v":""},{"$f":"IF(AND($A10>0,L6<>\"\"),'Beoord Verslag'!O34,\"\")","v":""},{"$f":"IF(AND($A10>0,M6<>\"\"),'Beoord Verslag'!P34,\"\")","v":""},{"$f":"IF(AND($A10>0,N6<>\"\"),'Beoord Verslag'!Q34,\"\")","v":""},{"$f":"IF(AND($A10>0,O6<>\"\"),'Beoord Verslag'!R34,\"\")","v":""},{"$f":"IF(AND($A10>0,P6<>\"\"),'Beoord Verslag'!S34,\"\")","v":""},{"$f":"IF(AND($A10>0,Q6<>\"\"),'Beoord Verslag'!T34,\"\")","v":""},{"$f":"IF(AND($A10>0,R6<>\"\"),'Beoord Verslag'!U34,\"\")","v":""},{"$f":"IF(AND($A10>0,S6<>\"\"),'Beoord Verslag'!V34,\"\")","v":""},{"$f":"IF(AND($A10>0,T6<>\"\"),'Beoord Verslag'!W34,\"\")","v":""},{"$f":"IF(AND($A10>0,U6<>\"\"),'Beoord Verslag'!X34,\"\")","v":""},{"$f":"IF(AND($A10>0,V6<>\"\"),'Beoord Verslag'!Y34,\"\")","v":""},{"$f":"IF(AND($A10>0,W6<>\"\"),'Beoord Verslag'!Z34,\"\")","v":""},{"$f":"IF(AND($A10>0,X6<>\"\"),'Beoord Verslag'!AA34,\"\")","v":""},{"$f":"IF(AND($A10>0,Y6<>\"\"),'Beoord Verslag'!AB34,\"\")","v":""},{"$f":"IF(AND($A10>0,Z6<>\"\"),'Beoord Verslag'!AC34,\"\")","v":""},{"$f":"IF(AND($A10>0,AA6<>\"\"),'Beoord Verslag'!AD34,\"\")","v":""},{"$f":"IF(AND($A10>0,AB6<>\"\"),'Beoord Verslag'!AE34,\"\")","v":""},{"$f":"IF(AND($A10>0,AC6<>\"\"),'Beoord Verslag'!AF34,\"\")","v":""},{"$f":"IF(AND($A10>0,AD6<>\"\"),'Beoord Verslag'!AG34,\"\")","v":""},{"$f":"IF(AND($A10>0,AE6<>\"\"),'Beoord Verslag'!AH34,\"\")","v":""},{"$f":"IF(AND($A10>0,AF6<>\"\"),'Beoord Verslag'!AI34,\"\")","v":""},{"$f":"IF(AND($A10>0,AG6<>\"\"),'Beoord Verslag'!AJ34,\"\")","v":""},{"$f":"IF(AND($A10>0,AH6<>\"\"),'Beoord Verslag'!AK34,\"\")","v":""},null,74]
[{"$f":"'Beoord Verslag'!E43","v":1},{"$f":"'Beoord Verslag'!C35","v":"E. Presentatie"},{"$f":"IF(AND($A11>0,C6<>\"\"),'Beoord Verslag'!F43,\"\")","v":68.888888888888886},{"$f":"IF(AND($A11>0,D6<>\"\"),'Beoord Verslag'!G43,\"\")","v":64.444444444444443},{"$f":"IF(AND($A11>0,E6<>\"\"),'Beoord Verslag'!H43,\"\")","v":""},{"$f":"IF(AND($A11>0,F6<>\"\"),'Beoord Verslag'!I43,\"\")","v":""},{"$f":"IF(AND($A11>0,G6<>\"\"),'Beoord Verslag'!J43,\"\")","v":""},{"$f":"IF(AND($A11>0,H6<>\"\"),'Beoord Verslag'!K43,\"\")","v":""},{"$f":"IF(AND($A11>0,I6<>\"\"),'Beoord Verslag'!L43,\"\")","v":""},{"$f":"IF(AND($A11>0,J6<>\"\"),'Beoord Verslag'!M43,\"\")","v":""},{"$f":"IF(AND($A11>0,K6<>\"\"),'Beoord Verslag'!N43,\"\")","v":""},{"$f":"IF(AND($A11>0,L6<>\"\"),'Beoord Verslag'!O43,\"\")","v":""},{"$f":"IF(AND($A11>0,M6<>\"\"),'Beoord Verslag'!P43,\"\")","v":""},{"$f":"IF(AND($A11>0,N6<>\"\"),'Beoord Verslag'!Q43,\"\")","v":""},{"$f":"IF(AND($A11>0,O6<>\"\"),'Beoord Verslag'!R43,\"\")","v":""},{"$f":"IF(AND($A11>0,P6<>\"\"),'Beoord Verslag'!S43,\"\")","v":""},{"$f":"IF(AND($A11>0,Q6<>\"\"),'Beoord Verslag'!T43,\"\")","v":""},{"$f":"IF(AND($A11>0,R6<>\"\"),'Beoord Verslag'!U43,\"\")","v":""},{"$f":"IF(AND($A11>0,S6<>\"\"),'Beoord Verslag'!V43,\"\")","v":""},{"$f":"IF(AND($A11>0,T6<>\"\"),'Beoord Verslag'!W43,\"\")","v":""},{"$f":"IF(AND($A11>0,U6<>\"\"),'Beoord Verslag'!X43,\"\")","v":""},{"$f":"IF(AND($A11>0,V6<>\"\"),'Beoord Verslag'!Y43,\"\")","v":""},{"$f":"IF(AND($A11>0,W6<>\"\"),'Beoord Verslag'!Z43,\"\")","v":""},{"$f":"IF(AND($A11>0,X6<>\"\"),'Beoord Verslag'!AA43,\"\")","v":""},{"$f":"IF(AND($A11>0,Y6<>\"\"),'Beoord Verslag'!AB43,\"\")","v":""},{"$f":"IF(AND($A11>0,Z6<>\"\"),'Beoord Verslag'!AC43,\"\")","v":""},{"$f":"IF(AND($A11>0,AA6<>\"\"),'Beoord Verslag'!AD43,\"\")","v":""},{"$f":"IF(AND($A11>0,AB6<>\"\"),'Beoord Verslag'!AE43,\"\")","v":""},{"$f":"IF(AND($A11>0,AC6<>\"\"),'Beoord Verslag'!AF43,\"\")","v":""},{"$f":"IF(AND($A11>0,AD6<>\"\"),'Beoord Verslag'!AG43,\"\")","v":""},{"$f":"IF(AND($A11>0,AE6<>\"\"),'Beoord Verslag'!AH43,\"\")","v":""},{"$f":"IF(AND($A11>0,AF6<>\"\"),'Beoord Verslag'!AI43,\"\")","v":""},{"$f":"IF(AND($A11>0,AG6<>\"\"),'Beoord Verslag'!AJ43,\"\")","v":""},{"$f":"IF(AND($A11>0,AH6<>\"\"),'Beoord Verslag'!AK43,\"\")","v":""},null,66.666666666666657]
[{"$f":"'Beoord Verslag'!E51","v":1},{"$f":"'Beoord Verslag'!C44","v":"F. Evaluatie"},{"$f":"IF(AND($A12>0,C6<>\"\"),'Beoord Verslag'!F51,\"\")","v":60},{"$f":"IF(AND($A12>0,D6<>\"\"),'Beoord Verslag'!G51,\"\")","v":60},{"$f":"IF(AND($A12>0,E6<>\"\"),'Beoord Verslag'!H51,\"\")","v":""},{"$f":"IF(AND($A12>0,F6<>\"\"),'Beoord Verslag'!I51,\"\")","v":""},{"$f":"IF(AND($A12>0,G6<>\"\"),'Beoord Verslag'!J51,\"\")","v":""},{"$f":"IF(AND($A12>0,H6<>\"\"),'Beoord Verslag'!K51,\"\")","v":""},{"$f":"IF(AND($A12>0,I6<>\"\"),'Beoord Verslag'!L51,\"\")","v":""},{"$f":"IF(AND($A12>0,J6<>\"\"),'Beoord Verslag'!M51,\"\")","v":""},{"$f":"IF(AND($A12>0,K6<>\"\"),'Beoord Verslag'!N51,\"\")","v":""},{"$f":"IF(AND($A12>0,L6<>\"\"),'Beoord Verslag'!O51,\"\")","v":""},{"$f":"IF(AND($A12>0,M6<>\"\"),'Beoord Verslag'!P51,\"\")","v":""},{"$f":"IF(AND($A12>0,N6<>\"\"),'Beoord Verslag'!Q51,\"\")","v":""},{"$f":"IF(AND($A12>0,O6<>\"\"),'Beoord Verslag'!R51,\"\")","v":""},{"$f":"IF(AND($A12>0,P6<>\"\"),'Beoord Verslag'!S51,\"\")","v":""},{"$f":"IF(AND($A12>0,Q6<>\"\"),'Beoord Verslag'!T51,\"\")","v":""},{"$f":"IF(AND($A12>0,R6<>\"\"),'Beoord Verslag'!U51,\"\")","v":""},{"$f":"IF(AND($A12>0,S6<>\"\"),'Beoord Verslag'!V51,\"\")","v":""},{"$f":"IF(AND($A12>0,T6<>\"\"),'Beoord Verslag'!W51,\"\")","v":""},{"$f":"IF(AND($A12>0,U6<>\"\"),'Beoord Verslag'!X51,\"\")","v":""},{"$f":"IF(AND($A12>0,V6<>\"\"),'Beoord Verslag'!Y51,\"\")","v":""},{"$f":"IF(AND($A12>0,W6<>\"\"),'Beoord Verslag'!Z51,\"\")","v":""},{"$f":"IF(AND($A12>0,X6<>\"\"),'Beoord Verslag'!AA51,\"\")","v":""},{"$f":"IF(AND($A12>0,Y6<>\"\"),'Beoord Verslag'!AB51,\"\")","v":""},{"$f":"IF(AND($A12>0,Z6<>\"\"),'Beoord Verslag'!AC51,\"\")","v":""},{"$f":"IF(AND($A12>0,AA6<>\"\"),'Beoord Verslag'!AD51,\"\")","v":""},{"$f":"IF(AND($A12>0,AB6<>\"\"),'Beoord Verslag'!AE51,\"\")","v":""},{"$f":"IF(AND($A12>0,AC6<>\"\"),'Beoord Verslag'!AF51,\"\")","v":""},{"$f":"IF(AND($A12>0,AD6<>\"\"),'Beoord Verslag'!AG51,\"\")","v":""},{"$f":"IF(AND($A12>0,AE6<>\"\"),'Beoord Verslag'!AH51,\"\")","v":""},{"$f":"IF(AND($A12>0,AF6<>\"\"),'Beoord Verslag'!AI51,\"\")","v":""},{"$f":"IF(AND($A12>0,AG6<>\"\"),'Beoord Verslag'!AJ51,\"\")","v":""},{"$f":"IF(AND($A12>0,AH6<>\"\"),'Beoord Verslag'!AK51,\"\")","v":""},null,60]
[null,"eind(%)",{"$f":"IF(C6<>\"\",(SUMPRODUCT($A$7:$A$12,C7:C12))/SUM($A$7:$A$12),\"\")","v":64.259259259259252},75.370370370370367,"","","","","","","","","","","","","","","","","","","","","","","","","","","","","","",null,{"$f":"AVERAGE(C13:AH13)","v":69.81481481481481}]
[null,"cijfer",{"$f":"IF(C6<>\"\",((SUMPRODUCT($A$7:$A$12,C7:C12)*0.9)/SUM($A$7:$A$12)+10),\"\")","v":67.833333333333343},77.833333333333329,"","","","","","","","","","","","","","","","","","","","","","","","","","","","","","",null,{"$f":"AVERAGE(C14:AH14)","v":72.833333333333343}]
[]
[]
[]
[]
[]
[]
[]
[]
[]
[]
[]
[]
[null,null,"kies leerling: ",null,1]